BEGIN:VCALENDAR
VERSION:2.0
PRODID:icalendar-ruby
CALSCALE:GREGORIAN
METHOD:PUBLISH
BEGIN:VEVENT
DTSTAMP:20260421T104910Z
UID:8-1835354@kingdombuilderstm.org
DTSTART:20261018T153000Z
DTEND:20261018T170000Z
CLASS:PUBLIC
CREATED:20260420T185425
DESCRIPTION:Bring the entire family for a powerful Word and joyful celebrat
 ion this Sunday at 10:30 AM. Can't wait to see you here!
LAST-MODIFIED:20260420T185425
LOCATION:In Person
SUMMARY:Sunday Worship Service
URL;VALUE=URI:https://kingdombuilderstm.org/events/sunday-worship-service/2
 026-10-18
ATTACH;FILENAME=28827569_559562804402851_8071471075223156203_o.jpg;FMTTYPE=
 image/jpeg:https://dq5pwpg1q8ru0.cloudfront.net/2026/04/12/14/21/01/e3643d
 1d-8f0c-4759-9822-2defb3ea0676/28827569_559562804402851_807147107522315620
 3_o.jpg
END:VEVENT
END:VCALENDAR
